git_url: https://git.bioconductor.org/packages/BiRewire
git_branch: RELEASE_3_17
git_last_commit: eda61c9
git_last_commit_date: 2023-04-25 10:28:42 -0400 (Tue, 25 Apr 2023)
Package: BiRewire
Version: 3.32.0
Maintainer: Andrea Gobbi
MaintainerEmail: gobbi.andrea at mail.com