Package: BgeeCall
Version: 1.16.0
Command: rm -rf BgeeCall.buildbin-libdir && mkdir BgeeCall.buildbin-libdir && F:\biocbuild\bbs-3.17-bioc\R\bin\R.exe CMD INSTALL --build --library=BgeeCall.buildbin-libdir BgeeCall_1.16.0.tar.gz
StartedAt: 2023-10-13 08:12:52 -0400 (Fri, 13 Oct 2023)
EndedAt: 2023-10-13 08:13:47 -0400 (Fri, 13 Oct 2023)
EllapsedTime: 54.5 seconds
RetCode: 0
Status: OK
PackageFile: BgeeCall_1.16.0.zip
PackageFileSize: 5.935 <A href="http://en.wikipedia.org/wiki/MiB" target="_blank">MiB</A>