##############################################################################
##############################################################################
###
### Running command:
###
###   rm -rf BgeeCall.buildbin-libdir && mkdir BgeeCall.buildbin-libdir && F:\biocbuild\bbs-3.17-bioc\R\bin\R.exe CMD INSTALL --build --library=BgeeCall.buildbin-libdir BgeeCall_1.16.0.tar.gz
###
##############################################################################
##############################################################################


* installing *source* package 'BgeeCall' ...
** using staged installation
** R
** inst
** byte-compile and prepare package for lazy loading
** help
*** installing help indices
** building package indices
** installing vignettes
** testing if installed package can be loaded from temporary location
** testing if installed package can be loaded from final location
** testing if installed package keeps a record of temporary installation path
* MD5 sums
packaged installation of 'BgeeCall' as BgeeCall_1.16.0.zip
* DONE (BgeeCall)