Package: BayesKnockdown
Version: 1.26.0
Command: /Library/Frameworks/R.framework/Resources/bin/R CMD INSTALL BayesKnockdown
StartedAt: 2023-10-15 15:05:05 -0400 (Sun, 15 Oct 2023)
EndedAt: 2023-10-15 15:05:34 -0400 (Sun, 15 Oct 2023)
EllapsedTime: 28.5 seconds
RetCode: 0
Status: OK