Package: BayesKnockdown Version: 1.26.0 Command: /Library/Frameworks/R.framework/Resources/bin/R CMD check --install=check:BayesKnockdown.install-out.txt --library=/Library/Frameworks/R.framework/Resources/library --no-vignettes --timings BayesKnockdown_1.26.0.tar.gz StartedAt: 2023-10-15 22:48:59 -0400 (Sun, 15 Oct 2023) EndedAt: 2023-10-15 22:49:56 -0400 (Sun, 15 Oct 2023) EllapsedTime: 56.8 seconds RetCode: 0 Status: OK CheckDir: BayesKnockdown.Rcheck Warnings: 0