Package: BayesKnockdown
Version: 1.26.0
Command: /Library/Frameworks/R.framework/Resources/bin/R CMD build --keep-empty-dirs --no-resave-data BayesKnockdown
StartedAt: 2023-10-15 16:51:23 -0400 (Sun, 15 Oct 2023)
EndedAt: 2023-10-15 16:51:44 -0400 (Sun, 15 Oct 2023)
EllapsedTime: 21.4 seconds
RetCode: 0
Status: OK
PackageFile: BayesKnockdown_1.26.0.tar.gz
PackageFileSize: 211.6 <A href="http://en.wikipedia.org/wiki/KiB" target="_blank">KiB</A>