Package: BayesKnockdown Version: 1.26.0 Command: rm -rf BayesKnockdown.buildbin-libdir && mkdir BayesKnockdown.buildbin-libdir && /Users/biocbuild/BBS/utils/build-universal.sh BayesKnockdown_1.26.0.tar.gz /Library/Frameworks/R.framework/Resources/bin/R BayesKnockdown.buildbin-libdir StartedAt: 2023-10-16 09:00:06 -0400 (Mon, 16 Oct 2023) EndedAt: 2023-10-16 09:00:23 -0400 (Mon, 16 Oct 2023) EllapsedTime: 16.5 seconds RetCode: 0 Status: OK PackageFile: BayesKnockdown_1.26.0.tgz PackageFileSize: 225.8 <A href="http://en.wikipedia.org/wiki/KiB" target="_blank">KiB</A>