git_url: https://git.bioconductor.org/packages/BasicSTARRseq
git_branch: RELEASE_3_17
git_last_commit: 75bd2b1
git_last_commit_date: 2023-04-25 10:44:02 -0400 (Tue, 25 Apr 2023)
Package: BasicSTARRseq
Version: 1.28.0
Maintainer: Annika Buerger
MaintainerEmail: annika.buerger at ukmuenster.de