Package: BSgenomeForge
Version: 1.0.1
Command: /Library/Frameworks/R.framework/Resources/bin/R CMD check --install=check:BSgenomeForge.install-out.txt --library=/Library/Frameworks/R.framework/Resources/library --no-vignettes --timings BSgenomeForge_1.0.1.tar.gz
StartedAt: 2023-10-15 23:18:24 -0400 (Sun, 15 Oct 2023)
EndedAt: 2023-10-15 23:27:18 -0400 (Sun, 15 Oct 2023)
EllapsedTime: 533.5 seconds
RetCode: 0
Status: OK
CheckDir: BSgenomeForge.Rcheck
Warnings: 0