##############################################################################
##############################################################################
###
### Running command:
###
###   /Library/Frameworks/R.framework/Resources/bin/R CMD build --keep-empty-dirs --no-resave-data BSgenomeForge
###
##############################################################################
##############################################################################


* checking for file ‘BSgenomeForge/DESCRIPTION’ ... OK
* preparing ‘BSgenomeForge’:
* checking DESCRIPTION meta-information ... OK
* installing the package to build vignettes
* creating vignettes ... OK
* checking for LF line-endings in source and make files and shell scripts
* checking for empty or unneeded directories
WARNING: directory ‘BSgenomeForge/inst/pkgtemplates/NCBI_BSgenome_datapkg/inst/extdata’ is empty
WARNING: directory ‘BSgenomeForge/inst/pkgtemplates/UCSC_BSgenome_datapkg/inst/extdata’ is empty
* building ‘BSgenomeForge_1.0.1.tar.gz’