Package: BSgenomeForge
Version: 1.0.1
Command: rm -rf BSgenomeForge.buildbin-libdir && mkdir BSgenomeForge.buildbin-libdir && /Users/biocbuild/BBS/utils/build-universal.sh BSgenomeForge_1.0.1.tar.gz /Library/Frameworks/R.framework/Resources/bin/R BSgenomeForge.buildbin-libdir
StartedAt: 2023-10-16 09:04:03 -0400 (Mon, 16 Oct 2023)
EndedAt: 2023-10-16 09:05:34 -0400 (Mon, 16 Oct 2023)
EllapsedTime: 90.8 seconds
RetCode: 0
Status: OK
PackageFile: BSgenomeForge_1.0.1.tgz
PackageFileSize: 300 <A href="http://en.wikipedia.org/wiki/KiB" target="_blank">KiB</A>