git_url: https://git.bioconductor.org/packages/BG2
git_branch: RELEASE_3_17
git_last_commit: 55216f3
git_last_commit_date: 2023-04-25 11:42:05 -0400 (Tue, 25 Apr 2023)
Package: BG2
Version: 1.0.0
Maintainer: Jacob Williams
MaintainerEmail: jwilliams at vt.edu