git_url: https://git.bioconductor.org/packages/BEAT
git_branch: RELEASE_3_17
git_last_commit: c346273
git_last_commit_date: 2023-04-25 10:30:03 -0400 (Tue, 25 Apr 2023)
Package: BEAT
Version: 1.38.0
Maintainer: Kemal Akman
MaintainerEmail: akman at mpipz.mpg.de