git_url: https://git.bioconductor.org/packages/BEARscc
git_branch: RELEASE_3_17
git_last_commit: 9a08e00
git_last_commit_date: 2023-04-25 10:59:12 -0400 (Tue, 25 Apr 2023)
Package: BEARscc
Version: 1.20.0
Maintainer: Benjamin Schuster-Boeckler
MaintainerEmail: benjamin.schuster-boeckler at ludwig.ox.ac.uk