Package: BASiCS Version: 2.12.3 Command: /Library/Frameworks/R.framework/Resources/bin/R CMD INSTALL BASiCS StartedAt: 2023-10-15 16:20:35 -0400 (Sun, 15 Oct 2023) EndedAt: 2023-10-15 16:24:34 -0400 (Sun, 15 Oct 2023) EllapsedTime: 239.1 seconds RetCode: 0 Status: OK