git_url: https://git.bioconductor.org/packages/AnnotationDbi
git_branch: RELEASE_3_17
git_last_commit: baefc54
git_last_commit_date: 2023-06-30 16:17:11 -0400 (Fri, 30 Jun 2023)
Package: AnnotationDbi
Version: 1.62.2
Maintainer: Bioconductor Package Maintainer
MaintainerEmail: maintainer at bioconductor.org