git_url: https://git.bioconductor.org/packages/AnVIL
git_branch: RELEASE_3_17
git_last_commit: 648ec2d
git_last_commit_date: 2023-08-16 14:44:09 -0400 (Wed, 16 Aug 2023)
Package: AnVIL
Version: 1.12.4
Maintainer: Martin Morgan
MaintainerEmail: mtmorgan.bioc at gmail.com