git_url: https://git.bioconductor.org/packages/AllelicImbalance
git_branch: RELEASE_3_17
git_last_commit: 75a3b0f
git_last_commit_date: 2023-04-25 10:28:56 -0400 (Tue, 25 Apr 2023)
Package: AllelicImbalance
Version: 1.38.0
Maintainer: Jesper R Gadin
MaintainerEmail: j.r.gadin at gmail.com