git_url: https://git.bioconductor.org/packages/AgiMicroRna
git_branch: RELEASE_3_17
git_last_commit: a812b0f
git_last_commit_date: 2023-04-25 09:49:25 -0400 (Tue, 25 Apr 2023)
Package: AgiMicroRna
Version: 2.50.0
Maintainer: Pedro Lopez-Romero
MaintainerEmail: plopez at cnic.es