git_url: https://git.bioconductor.org/packages/AffiXcan
git_branch: RELEASE_3_17
git_last_commit: e3e6dfb
git_last_commit_date: 2023-04-25 11:04:58 -0400 (Tue, 25 Apr 2023)
Package: AffiXcan
Version: 1.18.0
Maintainer: Alessandro Lussana
MaintainerEmail: alessandro.lussana at protonmail.com