git_url: https://git.bioconductor.org/packages/ATACseqTFEA
git_branch: RELEASE_3_17
git_last_commit: 7c0aef8
git_last_commit_date: 2023-04-25 11:39:37 -0400 (Tue, 25 Apr 2023)
Package: ATACseqTFEA
Version: 1.2.0
Maintainer: Jianhong Ou
MaintainerEmail: jianhong.ou at duke.edu