git_url: https://git.bioconductor.org/packages/ATACseqQC
git_branch: RELEASE_3_17
git_last_commit: 06d4227
git_last_commit_date: 2023-04-25 10:54:12 -0400 (Tue, 25 Apr 2023)
Package: ATACseqQC
Version: 1.24.0
Maintainer: Jianhong Ou
MaintainerEmail: jianhong.ou at duke.edu