Package: ASICS Version: 2.16.0 Command: chmod a+r ASICS -R && F:\biocbuild\bbs-3.17-bioc\R\bin\R.exe CMD build --keep-empty-dirs --no-resave-data ASICS StartedAt: 2023-10-15 17:22:31 -0400 (Sun, 15 Oct 2023) EndedAt: 2023-10-15 17:25:39 -0400 (Sun, 15 Oct 2023) EllapsedTime: 188.1 seconds RetCode: 0 Status: OK PackageFile: ASICS_2.16.0.tar.gz PackageFileSize: 3.206 MiB