Package: ASICS
Version: 2.16.0
Command: /home/biocbuild/bbs-3.17-bioc/R/bin/R CMD INSTALL ASICS
StartedAt: 2023-10-15 15:42:46 -0400 (Sun, 15 Oct 2023)
EndedAt: 2023-10-15 15:43:17 -0400 (Sun, 15 Oct 2023)
EllapsedTime: 31.2 seconds
RetCode: 0
Status: OK