Package: ASICS Version: 2.16.0 Command: /home/biocbuild/bbs-3.17-bioc/R/bin/R CMD check --install=check:ASICS.install-out.txt --library=/home/biocbuild/bbs-3.17-bioc/R/site-library --timings ASICS_2.16.0.tar.gz StartedAt: 2023-10-15 19:15:15 -0400 (Sun, 15 Oct 2023) EndedAt: 2023-10-15 19:27:48 -0400 (Sun, 15 Oct 2023) EllapsedTime: 753.1 seconds RetCode: 0 Status: OK CheckDir: ASICS.Rcheck Warnings: 0