Package: ASICS Version: 2.16.0 Command: /home/biocbuild/bbs-3.17-bioc/R/bin/R CMD build --keep-empty-dirs --no-resave-data ASICS StartedAt: 2023-10-15 15:56:50 -0400 (Sun, 15 Oct 2023) EndedAt: 2023-10-15 15:59:42 -0400 (Sun, 15 Oct 2023) EllapsedTime: 171.4 seconds RetCode: 0 Status: OK PackageFile: ASICS_2.16.0.tar.gz PackageFileSize: 3.206 <A href="http://en.wikipedia.org/wiki/MiB" target="_blank">MiB</A>