git_url: https://git.bioconductor.org/packages/ALDEx2
git_branch: RELEASE_3_17
git_last_commit: ba32b9a
git_last_commit_date: 2023-04-25 10:34:57 -0400 (Tue, 25 Apr 2023)
Package: ALDEx2
Version: 1.32.0
Maintainer: Greg Gloor
MaintainerEmail: ggloor at uwo.ca