Package: ACME
Version: 2.56.0
Command: /Library/Frameworks/R.framework/Resources/bin/R CMD check --install=check:ACME.install-out.txt --library=/Library/Frameworks/R.framework/Resources/library --no-vignettes --timings ACME_2.56.0.tar.gz
StartedAt: 2023-10-15 22:21:16 -0400 (Sun, 15 Oct 2023)
EndedAt: 2023-10-15 22:23:17 -0400 (Sun, 15 Oct 2023)
EllapsedTime: 121.0 seconds
RetCode: 0
Status: OK
CheckDir: ACME.Rcheck
Warnings: 0