Package: ACME
Version: 2.56.0
Command: /Library/Frameworks/R.framework/Resources/bin/R CMD build --keep-empty-dirs --no-resave-data ACME
StartedAt: 2023-10-15 16:38:35 -0400 (Sun, 15 Oct 2023)
EndedAt: 2023-10-15 16:39:34 -0400 (Sun, 15 Oct 2023)
EllapsedTime: 58.8 seconds
RetCode: 0
Status: OK
PackageFile: ACME_2.56.0.tar.gz
PackageFileSize: 9.91 <A href="http://en.wikipedia.org/wiki/MiB" target="_blank">MiB</A>