Package: ACME
Version: 2.56.0
Command: rm -rf ACME.buildbin-libdir && mkdir ACME.buildbin-libdir && /Users/biocbuild/BBS/utils/build-universal.sh ACME_2.56.0.tar.gz /Library/Frameworks/R.framework/Resources/bin/R ACME.buildbin-libdir
StartedAt: 2023-10-16 08:56:17 -0400 (Mon, 16 Oct 2023)
EndedAt: 2023-10-16 08:56:49 -0400 (Mon, 16 Oct 2023)
EllapsedTime: 31.4 seconds
RetCode: 0
Status: OK
PackageFile: ACME_2.56.0.tgz
PackageFileSize: 10.15 <A href="http://en.wikipedia.org/wiki/MiB" target="_blank">MiB</A>