git_url: https://git.bioconductor.org/packages/ABarray
git_branch: RELEASE_3_17
git_last_commit: 7ffc3cf
git_last_commit_date: 2023-04-25 09:43:58 -0400 (Tue, 25 Apr 2023)
Package: ABarray
Version: 1.68.0
Maintainer: Yongming Andrew Sun
MaintainerEmail: sunya at appliedbiosystems.com