git_url: https://git.bioconductor.org/packages/maEndToEnd git_branch: RELEASE_3_16 git_last_commit: d6abe94 git_last_commit_date: 2022-11-01 10:34:34 -0400 (Tue, 01 Nov 2022) Package: maEndToEnd Version: 2.18.0 Maintainer: Stefanie Reisenauer MaintainerEmail: steffi.reisenauer at tum.de