git_url: https://git.bioconductor.org/packages/EGSEA123
git_branch: RELEASE_3_16
git_last_commit: e71b15d
git_last_commit_date: 2022-11-01 10:33:35 -0400 (Tue, 01 Nov 2022)
Package: EGSEA123
Version: 1.22.0
Maintainer: Matthew Ritchie
MaintainerEmail: mritchie at wehi.edu.au