git_url: https://git.bioconductor.org/packages/BP4RNAseq
git_branch: RELEASE_3_16
git_last_commit: 34ea5fb
git_last_commit_date: 2022-11-01 10:35:00 -0400 (Tue, 01 Nov 2022)
Package: BP4RNAseq
Version: 1.8.0
Maintainer: Shanwen Sun
MaintainerEmail: sunshanwen at gmail.com