Package: vidger Version: 1.18.0 Command: /Library/Frameworks/R.framework/Resources/bin/R CMD build --keep-empty-dirs --no-resave-data vidger StartedAt: 2023-04-18 12:40:44 -0400 (Tue, 18 Apr 2023) EndedAt: 2023-04-18 12:43:14 -0400 (Tue, 18 Apr 2023) EllapsedTime: 149.5 seconds RetCode: 0 Status: OK PackageFile: vidger_1.18.0.tar.gz PackageFileSize: 6.87 MiB