Package: vidger Version: 1.18.0 Command: rm -rf vidger.buildbin-libdir && mkdir vidger.buildbin-libdir && /Users/biocbuild/BBS/utils/build-universal.sh vidger_1.18.0.tar.gz /Library/Frameworks/R.framework/Resources/bin/R vidger.buildbin-libdir StartedAt: 2023-04-18 20:26:32 -0400 (Tue, 18 Apr 2023) EndedAt: 2023-04-18 20:27:51 -0400 (Tue, 18 Apr 2023) EllapsedTime: 79.0 seconds RetCode: 0 Status: OK PackageFile: vidger_1.18.0.tgz PackageFileSize: 7.125 MiB