Package: phenoTest Version: 1.46.0 Command: /Library/Frameworks/R.framework/Resources/bin/R CMD INSTALL phenoTest StartedAt: 2023-04-16 18:34:56 -0400 (Sun, 16 Apr 2023) EndedAt: 2023-04-16 18:35:49 -0400 (Sun, 16 Apr 2023) EllapsedTime: 53.5 seconds RetCode: 0 Status: OK