Package: hipathia Version: 2.14.0 Command: /Library/Frameworks/R.framework/Resources/bin/R CMD INSTALL hipathia StartedAt: 2023-04-16 15:55:10 -0400 (Sun, 16 Apr 2023) EndedAt: 2023-04-16 15:56:07 -0400 (Sun, 16 Apr 2023) EllapsedTime: 56.2 seconds RetCode: 0 Status: OK