Package: esetVis Version: 1.24.0 Command: /Library/Frameworks/R.framework/Resources/bin/R CMD build --keep-empty-dirs --no-resave-data esetVis StartedAt: 2023-04-17 05:53:07 -0400 (Mon, 17 Apr 2023) EndedAt: 2023-04-17 05:54:57 -0400 (Mon, 17 Apr 2023) EllapsedTime: 109.3 seconds RetCode: 0 Status: OK PackageFile: esetVis_1.24.0.tar.gz PackageFileSize: 1.969 MiB