Package: eds Version: 1.0.0 Command: rm -rf eds.buildbin-libdir && mkdir eds.buildbin-libdir && /Users/biocbuild/BBS/utils/build-universal.sh eds_1.0.0.tar.gz /Library/Frameworks/R.framework/Resources/bin/R eds.buildbin-libdir StartedAt: 2023-04-18 15:26:26 -0400 (Tue, 18 Apr 2023) EndedAt: 2023-04-18 15:27:02 -0400 (Tue, 18 Apr 2023) EllapsedTime: 35.9 seconds RetCode: 0 Status: OK PackageFile: eds_1.0.0.tgz PackageFileSize: 252.7 KiB