Package: debrowser Version: 1.26.3 Command: /Library/Frameworks/R.framework/Resources/bin/R CMD build --keep-empty-dirs --no-resave-data debrowser StartedAt: 2023-04-17 02:51:44 -0400 (Mon, 17 Apr 2023) EndedAt: 2023-04-17 02:53:54 -0400 (Mon, 17 Apr 2023) EllapsedTime: 129.4 seconds RetCode: 0 Status: OK PackageFile: debrowser_1.26.3.tar.gz PackageFileSize: 18.22 MiB