Package: cydar Version: 1.22.0 Command: /Library/Frameworks/R.framework/Resources/bin/R CMD build --keep-empty-dirs --no-resave-data cydar StartedAt: 2023-04-17 02:29:51 -0400 (Mon, 17 Apr 2023) EndedAt: 2023-04-17 02:31:10 -0400 (Mon, 17 Apr 2023) EllapsedTime: 78.8 seconds RetCode: 0 Status: OK PackageFile: cydar_1.22.0.tar.gz PackageFileSize: 462.5 KiB