Package: clstutils Version: 1.46.0 Command: rm -rf clstutils.buildbin-libdir && mkdir clstutils.buildbin-libdir && /Users/biocbuild/BBS/utils/build-universal.sh clstutils_1.46.0.tar.gz /Library/Frameworks/R.framework/Resources/bin/R clstutils.buildbin-libdir StartedAt: 2023-04-18 14:35:05 -0400 (Tue, 18 Apr 2023) EndedAt: 2023-04-18 14:35:18 -0400 (Tue, 18 Apr 2023) EllapsedTime: 13.4 seconds RetCode: 0 Status: OK PackageFile: clstutils_1.46.0.tgz PackageFileSize: 2.725 MiB