Package: ceRNAnetsim Version: 1.10.0 Command: rm -rf ceRNAnetsim.buildbin-libdir && mkdir ceRNAnetsim.buildbin-libdir && /Users/biocbuild/BBS/utils/build-universal.sh ceRNAnetsim_1.10.0.tar.gz /Library/Frameworks/R.framework/Resources/bin/R ceRNAnetsim.buildbin-libdir StartedAt: 2023-04-18 14:20:43 -0400 (Tue, 18 Apr 2023) EndedAt: 2023-04-18 14:21:01 -0400 (Tue, 18 Apr 2023) EllapsedTime: 17.6 seconds RetCode: 0 Status: OK PackageFile: ceRNAnetsim_1.10.0.tgz PackageFileSize: 2.445 MiB