Package: biocGraph Version: 1.60.0 Command: /Library/Frameworks/R.framework/Resources/bin/R CMD INSTALL biocGraph StartedAt: 2023-04-16 17:27:33 -0400 (Sun, 16 Apr 2023) EndedAt: 2023-04-16 17:27:56 -0400 (Sun, 16 Apr 2023) EllapsedTime: 23.2 seconds RetCode: 0 Status: OK