Package: beadarraySNP Version: 1.64.0 Command: rm -rf beadarraySNP.buildbin-libdir && mkdir beadarraySNP.buildbin-libdir && /Users/biocbuild/BBS/utils/build-universal.sh beadarraySNP_1.64.0.tar.gz /Library/Frameworks/R.framework/Resources/bin/R beadarraySNP.buildbin-libdir StartedAt: 2023-04-18 13:51:01 -0400 (Tue, 18 Apr 2023) EndedAt: 2023-04-18 13:51:32 -0400 (Tue, 18 Apr 2023) EllapsedTime: 31.0 seconds RetCode: 0 Status: OK PackageFile: beadarraySNP_1.64.0.tgz PackageFileSize: 1.026 MiB