Package: annotationTools Version: 1.72.0 Command: /Library/Frameworks/R.framework/Resources/bin/R CMD build --keep-empty-dirs --no-resave-data annotationTools StartedAt: 2023-04-16 19:53:47 -0400 (Sun, 16 Apr 2023) EndedAt: 2023-04-16 19:54:01 -0400 (Sun, 16 Apr 2023) EllapsedTime: 13.3 seconds RetCode: 0 Status: OK PackageFile: annotationTools_1.72.0.tar.gz PackageFileSize: 333 KiB