Package: TreeSummarizedExperiment Version: 2.6.0 Command: /Library/Frameworks/R.framework/Resources/bin/R CMD INSTALL TreeSummarizedExperiment StartedAt: 2023-04-16 15:14:57 -0400 (Sun, 16 Apr 2023) EndedAt: 2023-04-16 15:16:03 -0400 (Sun, 16 Apr 2023) EllapsedTime: 65.9 seconds RetCode: 0 Status: OK