Package: ToxicoGx Version: 2.2.0 Command: rm -rf ToxicoGx.buildbin-libdir && mkdir ToxicoGx.buildbin-libdir && /Users/biocbuild/BBS/utils/build-universal.sh ToxicoGx_2.2.0.tar.gz /Library/Frameworks/R.framework/Resources/bin/R ToxicoGx.buildbin-libdir StartedAt: 2023-04-18 20:11:20 -0400 (Tue, 18 Apr 2023) EndedAt: 2023-04-18 20:12:43 -0400 (Tue, 18 Apr 2023) EllapsedTime: 82.9 seconds RetCode: 0 Status: OK PackageFile: ToxicoGx_2.2.0.tgz PackageFileSize: 4.414 MiB