Package: SummarizedBenchmark Version: 2.16.0 Command: /Library/Frameworks/R.framework/Resources/bin/R CMD build --keep-empty-dirs --no-resave-data SummarizedBenchmark StartedAt: 2023-04-18 09:50:34 -0400 (Tue, 18 Apr 2023) EndedAt: 2023-04-18 09:56:21 -0400 (Tue, 18 Apr 2023) EllapsedTime: 347.6 seconds RetCode: 0 Status: OK PackageFile: SummarizedBenchmark_2.16.0.tar.gz PackageFileSize: 6.447 MiB